BEGIN:VCALENDAR
VERSION:2.0
PRODID:-//Calvary Missionary Baptist Church - ECPv6.15.3//NONSGML v1.0//EN
CALSCALE:GREGORIAN
METHOD:PUBLISH
X-ORIGINAL-URL:https://calvarymbcofhouston.org
X-WR-CALDESC:Events for Calvary Missionary Baptist Church
REFRESH-INTERVAL;VALUE=DURATION:PT1H
X-Robots-Tag:noindex
X-PUBLISHED-TTL:PT1H
BEGIN:VTIMEZONE
TZID:America/Chicago
BEGIN:DAYLIGHT
TZOFFSETFROM:-0600
TZOFFSETTO:-0500
TZNAME:CDT
DTSTART:20160313T080000
END:DAYLIGHT
BEGIN:STANDARD
TZOFFSETFROM:-0500
TZOFFSETTO:-0600
TZNAME:CST
DTSTART:20161106T070000
END:STANDARD
BEGIN:DAYLIGHT
TZOFFSETFROM:-0600
TZOFFSETTO:-0500
TZNAME:CDT
DTSTART:20170312T080000
END:DAYLIGHT
BEGIN:STANDARD
TZOFFSETFROM:-0500
TZOFFSETTO:-0600
TZNAME:CST
DTSTART:20171105T070000
END:STANDARD
END:VTIMEZONE
BEGIN:VTIMEZONE
TZID:UTC
BEGIN:STANDARD
TZOFFSETFROM:+0000
TZOFFSETTO:+0000
TZNAME:UTC
DTSTART:20150101T000000
END:STANDARD
END:VTIMEZONE
BEGIN:VEVENT
DTSTART;TZID=America/Chicago:20170521T123000
DTEND;TZID=America/Chicago:20170521T160000
DTSTAMP:20260423T165218
CREATED:20170426T005737Z
LAST-MODIFIED:20170426T011138Z
UID:1863-1495369800-1495382400@calvarymbcofhouston.org
SUMMARY:SundayFunday Tailgate
DESCRIPTION:
URL:https://calvarymbcofhouston.org/event/sundayfunday-tailgate/
LOCATION:Calvary Missionary Baptist Church\,  9013 McGallion\, Houston\, TX\, 77022\, United States
CATEGORIES:Community,Food,Music,Outreach
END:VEVENT
BEGIN:VEVENT
DTSTART;TZID=America/Chicago:20161008T120000
DTEND;TZID=America/Chicago:20161008T160000
DTSTAMP:20260423T165218
CREATED:20160929T233841Z
LAST-MODIFIED:20160929T234025Z
UID:1793-1475928000-1475942400@calvarymbcofhouston.org
SUMMARY:Fall Health and Safety Event
DESCRIPTION:Get ready!!! Get ready!!!!! Get ready!!! Health and Safety event—-Free for all! Blood pressure \n✔ Voters Registration \n✔ HIV Testing \n✔ Food\, Fun & Fellowship \n✔ Financial Planning \n✔ Fingerprint kits \n✔ Flu shots \n✔ …..and much much more!!!! \nYou don’t want to miss this event. See you there.\nSaturday October 8\nCalvary MissionaryBaptist Church\n9013 McGallion Street …….AND… it’s all FREE TO THE PUBLIC!
URL:https://calvarymbcofhouston.org/event/fall-health-safety-event/
LOCATION:Calvary Missionary Baptist Church\,  9013 McGallion\, Houston\, TX\, 77022\, United States
CATEGORIES:Community,Food,Music,Neighborhood,Outreach,WINGS
ATTACH;FMTTYPE=image/jpeg:https://calvarymbcofhouston.org/wp-content/uploads/2016/09/health-and-safety-event.jpg
END:VEVENT
BEGIN:VEVENT
DTSTART;TZID=America/Chicago:20160531T090000
DTEND;TZID=America/Chicago:20160805T180000
DTSTAMP:20260423T165218
CREATED:20160503T011929Z
LAST-MODIFIED:20160503T012048Z
UID:1639-1464685200-1470420000@calvarymbcofhouston.org
SUMMARY:Unique Kids Camp
DESCRIPTION:Around the World Adventure Summer Camp \n  \nBring your kiddos to experience FUN\, FOOD and FIELD TRIPS
URL:https://calvarymbcofhouston.org/event/unique-kids-camp/
LOCATION:Calvary Missionary Baptist Church\,  9013 McGallion\, Houston\, TX\, 77022\, United States
CATEGORIES:Community,Outreach
ATTACH;FMTTYPE=image/jpeg:https://calvarymbcofhouston.org/wp-content/uploads/2016/05/IMG_0452.jpg
END:VEVENT
BEGIN:VEVENT
DTSTART;TZID=UTC:20151021T080000
DTEND;TZID=UTC:20151021T170000
DTSTAMP:20260423T165218
CREATED:20150916T214836Z
LAST-MODIFIED:20160426T193924Z
UID:1322-1445414400-1445446800@calvarymbcofhouston.org
SUMMARY:Growing Kids God's Way
DESCRIPTION:Maecenas leo nisi\, efficitur at felis sit amet\, lacinia auctor quam. Aliquam euismod pretium mattis. Aenean sollicitudin orci non orci gravida ullamcorper. Duis utres odios pellentesque\, efficiturs odio vitae\, aliquams arcu. Sed pulvinar lacus at neque imperdiet lobortis. Phasellus eget lectus rutrum\, fringilla nibh ut\, convallis orci. Quisque magna risus\, lacinia a pharetra vel\, gravida ac mi. Aenean ac interdum nisi\, et vehicula nisl. Suspendisse potenti. Cras leo ex\, congue eget dignissim nec\, porta maximus erat. Etiam ornare arcu neque\, in viverra eros egestas eu. Mauris diam velit\, dictum et vehicula nec\, sagittis nec sapien. Donec tincidunt purus et justo porttitor\, non porttitor quam fermentum orci non aliquams arcu dolores ipsums. \nDonec maximus a ante sit amet nisl nisi at arcu. Donec lobortis libero ex\, a sollicitudin neque volutpat. Aenean pretium nisi id lectus cursus sagittis. Aliquam sit amet nisl pretium\, consectetur purus non\, porta libero. Integer dui dui\, porta non mollis sit amet\, pharetra nec risus. Donec fringilla ex non arcu auctor\, vel faucibus felis pharetra. Pellentesque condimentum suscipit mi. Sed pretium\, tellus et efficitur dapibus\, metus nunc gravida ante\, at interdum nisl nisi at arcu. Donec lobortis libero ex\, a sollicitudin neque dapibus vitae. Maecenas volutpat est sit amet leo pretium mollis eu a odio dolores ipsums ficilis etras.
URL:https://calvarymbcofhouston.org/event/octoberfest-celebration/
LOCATION:Leaders
CATEGORIES:Community,Food,Music,Outreach
ATTACH;FMTTYPE=image/jpeg:https://calvarymbcofhouston.org/wp-content/uploads/2015/09/event_6-compressor.jpg
END:VEVENT
END:VCALENDAR