BEGIN:VCALENDAR
VERSION:2.0
PRODID:-//Calvary Missionary Baptist Church - ECPv6.15.3//NONSGML v1.0//EN
CALSCALE:GREGORIAN
METHOD:PUBLISH
X-WR-CALNAME:Calvary Missionary Baptist Church
X-ORIGINAL-URL:https://calvarymbcofhouston.org
X-WR-CALDESC:Events for Calvary Missionary Baptist Church
REFRESH-INTERVAL;VALUE=DURATION:PT1H
X-Robots-Tag:noindex
X-PUBLISHED-TTL:PT1H
BEGIN:VTIMEZONE
TZID:America/Chicago
BEGIN:DAYLIGHT
TZOFFSETFROM:-0600
TZOFFSETTO:-0500
TZNAME:CDT
DTSTART:20160313T080000
END:DAYLIGHT
BEGIN:STANDARD
TZOFFSETFROM:-0500
TZOFFSETTO:-0600
TZNAME:CST
DTSTART:20161106T070000
END:STANDARD
END:VTIMEZONE
BEGIN:VEVENT
DTSTART;TZID=America/Chicago:20160426T080000
DTEND;TZID=America/Chicago:20160426T170000
DTSTAMP:20260423T182854
CREATED:20160426T213518Z
LAST-MODIFIED:20160426T215112Z
UID:1401-1461657600-1461690000@calvarymbcofhouston.org
SUMMARY:Pastor Shannon and First Lady Laura Oliver 25 Year Appreciation Celebration
DESCRIPTION:Come join us and celebrate Pastor and his wife 25 years of pastorship.
URL:https://calvarymbcofhouston.org/event/pastor-shannon-first-lady-laura-oliver-25-year-appreciation-celebration/
CATEGORIES:Appreciation Celebration
ATTACH;FMTTYPE=image/jpeg:https://calvarymbcofhouston.org/wp-content/uploads/2015/11/PastorWife-white.jpg
END:VEVENT
END:VCALENDAR